BEGIN:VCALENDAR
VERSION:2.0
PRODID:-//Troop 306 - ECPv6.0.12//NONSGML v1.0//EN
CALSCALE:GREGORIAN
METHOD:PUBLISH
X-WR-CALNAME:Troop 306
X-ORIGINAL-URL:https://ourtroop306.org
X-WR-CALDESC:Events for Troop 306
REFRESH-INTERVAL;VALUE=DURATION:PT1H
X-Robots-Tag:noindex
X-PUBLISHED-TTL:PT1H
BEGIN:VTIMEZONE
TZID:UTC
BEGIN:STANDARD
TZOFFSETFROM:+0000
TZOFFSETTO:+0000
TZNAME:UTC
DTSTART:20200101T000000
END:STANDARD
END:VTIMEZONE
BEGIN:VEVENT
DTSTART;TZID=UTC:20201128T120000
DTEND;TZID=UTC:20201223T200000
DTSTAMP:20260422T154415
CREATED:20201122T210514Z
LAST-MODIFIED:20250215T222719Z
UID:144-1606564800-1608753600@ourtroop306.org
SUMMARY:Troop 306 Annual Christmas Tree Sale
DESCRIPTION:Join Troop 306 for their Annual Christmas Tree Sale! Beginning at 12pm on Saturday\, November 28th!\n\nScouts will be on hand to help you pick your Family’s PERFECT Christmas Tree! Scouts will assist with loading and securing  the tree onto your vehicle!\n\nThe annual sale runs until 8pm on Wednesday\, December 23rd or until all trees are sold.\n\nWe hope to see you there! 🌲🌲🌲
URL:https://ourtroop306.org/event/troop-306-annual-christmas-tree-sale/
LOCATION:Catonsville Presbyterian Church\, 1400 Frederick Road\, Catonsville\, MD\, 21244\, United States
CATEGORIES:Annual Christmas Tree Sale
ATTACH;FMTTYPE=image/jpeg:https://ourtroop306.org/wp-content/uploads/2020/11/CAD9320A-ED68-4C70-BE15-F3555B1B1E10.jpeg
END:VEVENT
END:VCALENDAR