BEGIN:VCALENDAR
VERSION:2.0
PRODID:-//Troop 306 - ECPv6.0.12//NONSGML v1.0//EN
CALSCALE:GREGORIAN
METHOD:PUBLISH
X-WR-CALNAME:Troop 306
X-ORIGINAL-URL:https://ourtroop306.org
X-WR-CALDESC:Events for Troop 306
REFRESH-INTERVAL;VALUE=DURATION:PT1H
X-Robots-Tag:noindex
X-PUBLISHED-TTL:PT1H
BEGIN:VTIMEZONE
TZID:UTC
BEGIN:STANDARD
TZOFFSETFROM:+0000
TZOFFSETTO:+0000
TZNAME:UTC
DTSTART:20200101T000000
END:STANDARD
TZID:America/New_York
BEGIN:DAYLIGHT
TZOFFSETFROM:-0500
TZOFFSETTO:-0400
TZNAME:EDT
DTSTART:20200308T070000
END:DAYLIGHT
BEGIN:STANDARD
TZOFFSETFROM:-0400
TZOFFSETTO:-0500
TZNAME:EST
DTSTART:20201101T060000
END:STANDARD
BEGIN:DAYLIGHT
TZOFFSETFROM:-0500
TZOFFSETTO:-0400
TZNAME:EDT
DTSTART:20210314T070000
END:DAYLIGHT
BEGIN:STANDARD
TZOFFSETFROM:-0400
TZOFFSETTO:-0500
TZNAME:EST
DTSTART:20211107T060000
END:STANDARD
BEGIN:DAYLIGHT
TZOFFSETFROM:-0500
TZOFFSETTO:-0400
TZNAME:EDT
DTSTART:20220313T070000
END:DAYLIGHT
BEGIN:STANDARD
TZOFFSETFROM:-0400
TZOFFSETTO:-0500
TZNAME:EST
DTSTART:20221106T060000
END:STANDARD
BEGIN:DAYLIGHT
TZOFFSETFROM:-0500
TZOFFSETTO:-0400
TZNAME:EDT
DTSTART:20230312T070000
END:DAYLIGHT
BEGIN:STANDARD
TZOFFSETFROM:-0400
TZOFFSETTO:-0500
TZNAME:EST
DTSTART:20231105T060000
END:STANDARD
END:VTIMEZONE
BEGIN:VEVENT
DTSTART;TZID=UTC:20240622T111500
DTEND;TZID=UTC:20240629T130000
DTSTAMP:20260422T221716
CREATED:20240603T130340Z
LAST-MODIFIED:20240603T130342Z
UID:730-1719054900-1719666000@ourtroop306.org
SUMMARY:Summer Camp 2024
DESCRIPTION:
URL:https://ourtroop306.org/event/summer-camp-2024/
END:VEVENT
BEGIN:VEVENT
DTSTART;TZID=UTC:20240216T180000
DTEND;TZID=UTC:20240218T110000
DTSTAMP:20260422T221716
CREATED:20240124T005421Z
LAST-MODIFIED:20240209T170137Z
UID:686-1708106400-1708254000@ourtroop306.org
SUMMARY:February Campout / Leadership Training
DESCRIPTION:Musser Scout Reservation Cabin Camping/Leadership Training. \n\n\n\n\n\nPayment: Cash\, check\, or Troop PayPal account (QR code below): Threezerosix.Catonsville@gmail.com. click on the QR code below\, send it to your QR Scanner\, and then pay through the PayPal app. For the payment type\, please be sure to select the "Friends and Family" option and NOT the "Goods and Services" option which causes us all kinds of problems.\n\n\n\n\n\n\n\n\nClick for Packing List\n\n\n\nClick for Signup Sheet\n\n\n\n\n\n\n\n\nApple Map\n\n\n\nGoogle Map
URL:https://ourtroop306.org/event/2024-feb-campout/
LOCATION:Musser Scout Reservation\, 5505 Upper Ridge Road\, Pennsburg\, PA\, 18073
CATEGORIES:Camping,Troop Trips
ORGANIZER;CN="Thomas%20Cherry":MAILTO:thomas.cherry@gmail.com
END:VEVENT
BEGIN:VEVENT
DTSTART;TZID=UTC:20230909T130000
DTEND;TZID=UTC:20230909T170000
DTSTAMP:20260422T221716
CREATED:20230908T004848Z
LAST-MODIFIED:20230908T004947Z
UID:657-1694264400-1694278800@ourtroop306.org
SUMMARY:Canoe Skills Training
DESCRIPTION:Mandatory Canoe Skills training at Centennial Park 1-3pm 3-5pm. There are two sessions\, 1-3 or 3-5 that day.
URL:https://ourtroop306.org/event/2023-09-canoe-skills-training/
LOCATION:Centennial Park\, 10000 Clarksville Pike\, Ellicott City\, Maryland\, 21042\, United States
END:VEVENT
BEGIN:VEVENT
DTSTART;TZID=UTC:20230909T083000
DTEND;TZID=UTC:20230909T130000
DTSTAMP:20260422T221716
CREATED:20230908T003708Z
LAST-MODIFIED:20230908T003850Z
UID:655-1694248200-1694264400@ourtroop306.org
SUMMARY:Eagle Service Project
DESCRIPTION:Logan's 1st Full Eagle Service Project Workday 8:15 8:30am-1pm
URL:https://ourtroop306.org/event/2023-09-09-eagle-service-project/
END:VEVENT
BEGIN:VEVENT
DTSTART;TZID=UTC:20230519T180000
DTEND;TZID=UTC:20230521T110000
DTSTAMP:20260422T221716
CREATED:20230430T213007Z
LAST-MODIFIED:20230430T215019Z
UID:603-1684519200-1684666800@ourtroop306.org
SUMMARY:2023 May Campout
DESCRIPTION:For our May campout we will be camping at Kything Croft by the Pretty Boy Reservoir in Northern Baltimore County. Once the participants arrive\, we will set up camp in separate patrol areas and participate in a Troop Cracker Barrel. On Saturday the Troop will engage in a service project\, assist the new Scouts to complete the Totin’ Chip\, and enjoy the beauty of a valley with a field\, meandering stream\, and trails to explore. On Sunday we will break camp and return to CPC by 11:00 am for pickup. All 4 meals will be cooked by patrol and Cracker Barrel will be provided by the adults. Please bring work gloves. Note that we will not stop for fast food on the way to camp. \n\n\n\n\n\n\n\n\n\n\n\n\n\nFor more information or questions\, you can email Thomas.cherry@gmail.com. \n\n\n\n2023.05-Camping-Permission-SlipDownload\n\n\n\nLink to Apple Maps\n\n\n\nLink to Google Maps
URL:https://ourtroop306.org/event/2023-may-campout/
LOCATION:Kything Croft Nature Center\, 19601 Gunpowder Road\, Millers\, Maryland\, 21102\, United States
CATEGORIES:Camping,Troop Trips
END:VEVENT
BEGIN:VEVENT
DTSTART;TZID=America/New_York:20230421T180000
DTEND;TZID=America/New_York:20230423T130000
DTSTAMP:20260422T221716
CREATED:20230325T021159Z
LAST-MODIFIED:20230405T232454Z
UID:476-1682100000-1682254800@ourtroop306.org
SUMMARY:2023 April Campout
DESCRIPTION:For our April campout we will be going to visit the Dulles Air and Space Museum. Our campsite will be The Stables at Mezza Luna which is owned by a former scout and is very happy to be hosting us. Once the participants arrive\, we will set up camp and participate in various scouting activities. On Saturday the Troop will travel to the Space Museum. On Sunday we will be engaging in a service project to cleanup a road\, please bring work gloves. The troop will then return to CPC for pickup \nA QR code to Apple Maps for The Stables at Mezza Luna \nA QR code to Google Maps for The Stables at Mezza Luna  \nPermission Form April\, 2023 (PDF) \nHunter Park Waiver - (DOCX)
URL:https://ourtroop306.org/event/2023-april-campout/
LOCATION:The Stables at Mezza Luna 11451 Bethesda Church Rd.Damascus\, Md. 20872\, 11451 Bethesda Church Rd.\, Damascus\, Md\, 20872
CATEGORIES:Camping
ORGANIZER;CN="Thomas%20Cherry":MAILTO:thomas.cherry@gmail.com
END:VEVENT
BEGIN:VEVENT
DTSTART;TZID=UTC:20230412T150000
DTEND;TZID=UTC:20230412T190000
DTSTAMP:20260422T221716
CREATED:20230402T214814Z
LAST-MODIFIED:20230402T231457Z
UID:573-1681311600-1681326000@ourtroop306.org
SUMMARY:Braydon's Peace a Pizza Fundraiser
DESCRIPTION:Message from Braydon: My Eagle Project will benefit Cool Kids Campaign. Cool Kids is a non-profit supporting children fighting cancer. My project is a collection of items needed specifically for teens with cancer. Cool Kids will use the items to create care packages that fit the personality and needs of the individual.  \n\n\n\n\n\n\n\nPlease help me support Cool Kids Campaign\, and teens with cancer. Be sure to tell them that you are supporting "Braydon's Eagle Project Fundraiser".
URL:https://ourtroop306.org/event/braydons-peace-a-pizza-fundraiser/
LOCATION:Peace A Pizza\, 15 Mellor Ave\, Catonsville\, Maryland\, 21228\, United States
END:VEVENT
BEGIN:VEVENT
DTSTART;TZID=UTC:20201128T120000
DTEND;TZID=UTC:20201223T200000
DTSTAMP:20260422T221716
CREATED:20201122T210514Z
LAST-MODIFIED:20250215T222719Z
UID:144-1606564800-1608753600@ourtroop306.org
SUMMARY:Troop 306 Annual Christmas Tree Sale
DESCRIPTION:Join Troop 306 for their Annual Christmas Tree Sale! Beginning at 12pm on Saturday\, November 28th!\n\nScouts will be on hand to help you pick your Family’s PERFECT Christmas Tree! Scouts will assist with loading and securing  the tree onto your vehicle!\n\nThe annual sale runs until 8pm on Wednesday\, December 23rd or until all trees are sold.\n\nWe hope to see you there! 🌲🌲🌲
URL:https://ourtroop306.org/event/troop-306-annual-christmas-tree-sale/
LOCATION:Catonsville Presbyterian Church\, 1400 Frederick Road\, Catonsville\, MD\, 21244\, United States
CATEGORIES:Annual Christmas Tree Sale
ATTACH;FMTTYPE=image/jpeg:https://ourtroop306.org/wp-content/uploads/2020/11/CAD9320A-ED68-4C70-BE15-F3555B1B1E10.jpeg
END:VEVENT
BEGIN:VEVENT
DTSTART;VALUE=DATE:20200705
DTEND;VALUE=DATE:20200713
DTSTAMP:20260422T221716
CREATED:20200518T205756Z
LAST-MODIFIED:20200518T222106Z
UID:47-1593907200-1594598399@ourtroop306.org
SUMMARY:2020 Summer Camp
DESCRIPTION:Test placeholder for Summer Camp
URL:https://ourtroop306.org/event/2020-summer-camp/
LOCATION:Heritage Reservation\, Pennsylvania\, United States
CATEGORIES:Summer Camp
END:VEVENT
BEGIN:VEVENT
DTSTART;TZID=America/New_York:20200611T193000
DTEND;TZID=America/New_York:20200611T210000
DTSTAMP:20260422T221716
CREATED:20200518T205716Z
LAST-MODIFIED:20241221T175343Z
UID:60-1591903800-1591909200@ourtroop306.org
SUMMARY:Troop 306 Weekly Meeting 06.11.2020
DESCRIPTION:Troop 306’s weekly meeting via Zoom. The invitation with dial-in information will be sent via email on the day of the meeting.
URL:https://ourtroop306.org/event/troop-306-weekly-meeting-06-11-2020/
END:VEVENT
BEGIN:VEVENT
DTSTART;TZID=America/New_York:20200521T193000
DTEND;TZID=America/New_York:20200521T210000
DTSTAMP:20260422T221716
CREATED:20200518T205519Z
LAST-MODIFIED:20200518T205519Z
UID:58-1590089400-1590094800@ourtroop306.org
SUMMARY:Troop 306 Weekly Meeting 05.21.2020
DESCRIPTION:Troop 306's weekly meeting via Zoom. The invitation with dial-in information will be sent via email on the day of the meeting.
URL:https://ourtroop306.org/event/troop-306-weekly-meeting-05-21-2020/
END:VEVENT
END:VCALENDAR